BEGIN:VCALENDAR
VERSION:2.0
PRODID:-//ChamberMaster//Event Calendar 2.0//EN
METHOD:PUBLISH
X-PUBLISHED-TTL:P3D
REFRESH-INTERVAL:P3D
CALSCALE:GREGORIAN
BEGIN:VEVENT
DTSTART:20190305T150000Z
DTEND:20190305T160000Z
X-MICROSOFT-CDO-ALLDAYEVENT:FALSE
SUMMARY:Baby Time
DESCRIPTION:Tuesdays through May 7 Songs\, rhymes\, and an open play session. Birth to 18 months. Open hour play sessions March 12 and April 16.
X-ALT-DESC;FMTTYPE=text/html:Tuesdays through May 7 Songs\, rhymes\, and an open play session. Birth to 18 months. Open hour play sessions March 12 and April 16.
LOCATION:Granville Public Library
UID:e.180.12497
SEQUENCE:3
DTSTAMP:20260420T050749Z
URL:http://business.granvilleoh.com/events/details/baby-time-03-05-2019-12497
END:VEVENT

END:VCALENDAR
