BEGIN:VCALENDAR
VERSION:2.0
PRODID:-//ChamberMaster//Event Calendar 2.0//EN
METHOD:PUBLISH
X-PUBLISHED-TTL:P3D
REFRESH-INTERVAL:P3D
CALSCALE:GREGORIAN
BEGIN:VEVENT
DTSTART:20190604T140000Z
DTEND:20190604T150000Z
X-MICROSOFT-CDO-ALLDAYEVENT:FALSE
SUMMARY:Baby Time
DESCRIPTION:Songs\, rhymes\, and open play for babies birth through 18 mos. Open Play Session: July 2 Session runs through Tuesday July 23rd.
X-ALT-DESC;FMTTYPE=text/html:Songs\, rhymes\, and open play for babies birth through 18 mos. Open Play Session: July 2 Session runs through Tuesday July 23rd.
LOCATION:Granville Public Library
UID:e.180.12654
SEQUENCE:3
DTSTAMP:20260420T081600Z
URL:http://business.granvilleoh.com/events/details/baby-time-06-04-2019-12654
END:VEVENT

END:VCALENDAR
