BEGIN:VCALENDAR
VERSION:2.0
PRODID:-//ChamberMaster//Event Calendar 2.0//EN
METHOD:PUBLISH
X-PUBLISHED-TTL:P3D
REFRESH-INTERVAL:P3D
CALSCALE:GREGORIAN
BEGIN:VEVENT
DTSTART:20180717T140000Z
DTEND:20180717T150000Z
X-MICROSOFT-CDO-ALLDAYEVENT:FALSE
SUMMARY:Baby Time
DESCRIPTION:Songs\, rhymes\, and an open play session. Birth to 18 months.
X-ALT-DESC;FMTTYPE=text/html:Songs\, rhymes\, and an open play session. Birth to 18 months.
LOCATION:Granville Public Library
UID:e.180.12052
SEQUENCE:3
DTSTAMP:20260419T170952Z
URL:http://business.granvilleoh.com/events/details/baby-time-07-17-2018-12052
END:VEVENT

END:VCALENDAR
