BEGIN:VCALENDAR
VERSION:2.0
PRODID:-//ChamberMaster//Event Calendar 2.0//EN
METHOD:PUBLISH
X-PUBLISHED-TTL:P3D
REFRESH-INTERVAL:P3D
CALSCALE:GREGORIAN
BEGIN:VEVENT
DTSTART:20180815T180000Z
DTEND:20180815T190000Z
X-MICROSOFT-CDO-ALLDAYEVENT:FALSE
SUMMARY:Back to School Blast: Galaxy Pencil Pouch
DESCRIPTION:Get ready for an out-of-this-world school year! Use the provided supplies to create your own galaxy inspired pencil pouch. For Grades 7-12.
X-ALT-DESC;FMTTYPE=text/html:Get ready for an out-of-this-world school year! Use the provided supplies to create your own galaxy inspired pencil pouch. For Grades 7-12.
LOCATION:Granville Public Library
UID:e.180.12095
SEQUENCE:3
DTSTAMP:20260419T181530Z
URL:http://business.granvilleoh.com/events/details/back-to-school-blast-galaxy-pencil-pouch-12095
END:VEVENT

END:VCALENDAR
