BEGIN:VCALENDAR
VERSION:2.0
PRODID:-//ChamberMaster//Event Calendar 2.0//EN
METHOD:PUBLISH
X-PUBLISHED-TTL:P3D
REFRESH-INTERVAL:P3D
CALSCALE:GREGORIAN
BEGIN:VEVENT
DTSTART:20190807T223000Z
DTEND:20190808T003000Z
X-MICROSOFT-CDO-ALLDAYEVENT:FALSE
SUMMARY:Back to School Blast: Lego Build
DESCRIPTION:Rising 5th graders through adults are invited to our Lego Build. We'll be working on the new Stranger Things "The Upside Down" kit and several new additions to our Harry Potter Lego display that will be incorporated into the train show. Come for one night or all three!
X-ALT-DESC;FMTTYPE=text/html:Rising 5th graders through adults are invited to our Lego Build. We&#39\;ll be working on the new Stranger Things &quot\;The Upside Down&quot\; kit and several new additions to our Harry Potter Lego display that will be incorporated into the train show. Come for one night or all three!
LOCATION:Granville Public Library
UID:e.180.12749
SEQUENCE:3
DTSTAMP:20260422T102702Z
URL:http://business.granvilleoh.com/events/details/back-to-school-blast-lego-build-08-07-2019-12749
END:VEVENT

END:VCALENDAR
