BEGIN:VCALENDAR
VERSION:2.0
PRODID:-//ChamberMaster//Event Calendar 2.0//EN
METHOD:PUBLISH
X-PUBLISHED-TTL:P3D
REFRESH-INTERVAL:P3D
CALSCALE:GREGORIAN
BEGIN:VEVENT
DTSTART:20180814T220000Z
DTEND:20180814T233000Z
X-MICROSOFT-CDO-ALLDAYEVENT:FALSE
SUMMARY:Back to School Blast: Magic the Gathering
DESCRIPTION:Jeremy\, from Comic Shop Plus\, will be on hand to teach you how to play "Magic the Gathering". Be ready to cast spells against your opponent\, strategize\, and have fun! For 7th-12th grade.
X-ALT-DESC;FMTTYPE=text/html:Jeremy\, from Comic Shop Plus\, will be on hand to teach you how to play &quot\;Magic the Gathering&quot\;. Be ready to cast spells against your opponent\, strategize\, and have fun! For 7th-12th grade.
LOCATION:Granville Public Library
UID:e.180.12094
SEQUENCE:3
DTSTAMP:20260419T181452Z
URL:http://business.granvilleoh.com/events/details/back-to-school-blast-magic-the-gathering-12094
END:VEVENT

END:VCALENDAR
