BEGIN:VCALENDAR
VERSION:2.0
PRODID:-//ChamberMaster//Event Calendar 2.0//EN
METHOD:PUBLISH
X-PUBLISHED-TTL:P3D
REFRESH-INTERVAL:P3D
CALSCALE:GREGORIAN
BEGIN:VEVENT
DTSTART:20180816T230000Z
DTEND:20180817T003000Z
X-MICROSOFT-CDO-ALLDAYEVENT:FALSE
SUMMARY:Back to School Blast: Ultimate Frisbee
DESCRIPTION:Learn to play Ultimate Frisbee with players from GHS! Whether you've played before\, dream of being Granville's next airbender\, or think frisbees are just fancy paper plates\, this event is for you. Bring a white t-shirt and a blue t-shirt. Get outside and have some fun! For Grades 7-12. Location: Wildwood Park
X-ALT-DESC;FMTTYPE=text/html:Learn to play Ultimate Frisbee with players from GHS! Whether you&#39\;ve played before\, dream of being Granville&#39\;s next airbender\, or think frisbees are just fancy paper plates\, this event is for you. Bring a white t-shirt and a blue t-shirt. Get outside and have some fun! For Grades 7-12. Location: Wildwood Park
LOCATION:Hosted by the Granville Public Library at Wildwood Park
UID:e.180.12096
SEQUENCE:3
DTSTAMP:20260419T182110Z
URL:http://business.granvilleoh.com/events/details/back-to-school-blast-ultimate-frisbee-12096
END:VEVENT

END:VCALENDAR
