BEGIN:VCALENDAR
VERSION:2.0
PRODID:-//ChamberMaster//Event Calendar 2.0//EN
METHOD:PUBLISH
X-PUBLISHED-TTL:P3D
REFRESH-INTERVAL:P3D
CALSCALE:GREGORIAN
BEGIN:VEVENT
DTSTART:20190812T170000Z
DTEND:20190812T180000Z
X-MICROSOFT-CDO-ALLDAYEVENT:FALSE
SUMMARY:Back to School Craft
DESCRIPTION:Make a key chain and decorate a canvas pencil pouch to take back to school. (All kids can make a keychain\; the first 24 kids can paint a canvas pencil bag.) For kids starting K-6th grade in the fall.
X-ALT-DESC;FMTTYPE=text/html:Make a key chain and decorate a canvas pencil pouch to take back to school. (All kids can make a keychain\; the first 24 kids can paint a canvas pencil bag.) For kids starting K-6th grade in the fall.
LOCATION:Granville Public Library
UID:e.180.12770
SEQUENCE:3
DTSTAMP:20260422T101039Z
URL:http://business.granvilleoh.com/events/details/back-to-school-craft-12770
END:VEVENT

END:VCALENDAR
