BEGIN:VCALENDAR
VERSION:2.0
PRODID:-//ChamberMaster//Event Calendar 2.0//EN
METHOD:PUBLISH
X-PUBLISHED-TTL:P3D
REFRESH-INTERVAL:P3D
CALSCALE:GREGORIAN
BEGIN:VEVENT
DTSTART:20190411T230000Z
DTEND:20190412T003000Z
X-MICROSOFT-CDO-ALLDAYEVENT:FALSE
SUMMARY:Backyard Vegetables & other edibles
DESCRIPTION:Ready to grow some fruits and vegetables in your backyard\, but not sure HOW to start? This class covers the basics: choosing the best location for a garden\, preparing the soil\, and deciding which plants offer the best "return on effort" for your household. We'll also discuss fruit trees and bushes\, vines\, and berries that thrive in central Ohio's backyards. Create a place to grow food in your backyard this summer\, and enjoy the harvest for years to come! INSTRUCTOR: Tisa Watts is the Columbus Garden Coach\, a landscape designer\, garden educator\, and public speaker with over 18 years of professional experience. She has a degree in Horticulture and Landscape Design\, and she is the founder of the Columbus Garden School.
X-ALT-DESC;FMTTYPE=text/html:Ready to grow some fruits and vegetables in your backyard\, but not sure HOW to start? This class covers the basics: choosing the best location for a garden\, preparing the soil\, and deciding which plants offer the best &quot\;return on effort&quot\; for your household. We&#39\;ll also discuss fruit trees and bushes\, vines\, and berries that thrive in central Ohio&#39\;s backyards. Create a place to grow food in your backyard this summer\, and enjoy the harvest for years to come! INSTRUCTOR: Tisa Watts is the Columbus Garden Coach\, a landscape designer\, garden educator\, and public speaker with over 18 years of professional experience. She has a degree in Horticulture and Landscape Design\, and she is the founder of the Columbus Garden School.
LOCATION:Granville Public Library
UID:e.180.12552
SEQUENCE:3
DTSTAMP:20260420T050531Z
URL:http://business.granvilleoh.com/events/details/backyard-vegetables-other-edibles-12552
END:VEVENT

END:VCALENDAR
