BEGIN:VCALENDAR
VERSION:2.0
PRODID:-//ChamberMaster//Event Calendar 2.0//EN
METHOD:PUBLISH
X-PUBLISHED-TTL:P3D
REFRESH-INTERVAL:P3D
CALSCALE:GREGORIAN
BEGIN:VEVENT
DTSTART:20190921T180000Z
DTEND:20190921T190000Z
X-MICROSOFT-CDO-ALLDAYEVENT:FALSE
SUMMARY:Banned Book Charm
DESCRIPTION:To mark Banned Book Week\, stop by to create your own mini banned book charm with your favorite banned book cover. Teens in 7-12th grade.
X-ALT-DESC;FMTTYPE=text/html:To mark Banned Book Week\, stop by to create your own mini banned book charm with your favorite banned book cover. Teens in 7-12th grade.
LOCATION:Granville Public Library
UID:e.180.12818
SEQUENCE:3
DTSTAMP:20260422T115319Z
URL:http://business.granvilleoh.com/events/details/banned-book-charm-12818
END:VEVENT

END:VCALENDAR
