BEGIN:VCALENDAR
VERSION:2.0
PRODID:-//ChamberMaster//Event Calendar 2.0//EN
METHOD:PUBLISH
X-PUBLISHED-TTL:P3D
REFRESH-INTERVAL:P3D
CALSCALE:GREGORIAN
BEGIN:VEVENT
DTSTART:20190506T223000Z
DTEND:20190506T231500Z
X-MICROSOFT-CDO-ALLDAYEVENT:FALSE
SUMMARY:Battle for the Books Training: Fourth Graders
DESCRIPTION:Fourth Graders: Are you ready for Granville's (GES/GIS) upcoming Battle of the books? Come alone or with your team to test your knowledge if the books you've read during the school year.
X-ALT-DESC;FMTTYPE=text/html:Fourth Graders: Are you ready for Granville&#39\;s (GES/GIS) upcoming Battle of the books? Come alone or with your team to test your knowledge if the books you&#39\;ve read during the school year.
LOCATION:Granville Public Library
UID:e.180.12625
SEQUENCE:3
DTSTAMP:20260420T064431Z
URL:http://business.granvilleoh.com/events/details/battle-for-the-books-training-fourth-graders-12625
END:VEVENT

END:VCALENDAR
