BEGIN:VCALENDAR
VERSION:2.0
PRODID:-//ChamberMaster//Event Calendar 2.0//EN
METHOD:PUBLISH
X-PUBLISHED-TTL:P3D
REFRESH-INTERVAL:P3D
CALSCALE:GREGORIAN
BEGIN:VEVENT
DTSTART:20190508T223000Z
DTEND:20190508T231500Z
X-MICROSOFT-CDO-ALLDAYEVENT:FALSE
SUMMARY:Battle of the Books Training: 6th Graders
DESCRIPTION:Sixth Graders: Are you ready for Granville's (GES/GIS) upcoming Battle of the books? Come alone or with your team to test your knowledge of the books you've read during the school year.
X-ALT-DESC;FMTTYPE=text/html:Sixth Graders: Are you ready for Granville&#39\;s (GES/GIS) upcoming Battle of the books? Come alone or with your team to test your knowledge of the books you&#39\;ve read during the school year.
LOCATION:Granville Public Library
UID:e.180.12635
SEQUENCE:3
DTSTAMP:20260420T065244Z
URL:http://business.granvilleoh.com/events/details/battle-of-the-books-training-6th-graders-12635
END:VEVENT

END:VCALENDAR
