BEGIN:VCALENDAR
VERSION:2.0
PRODID:-//ChamberMaster//Event Calendar 2.0//EN
METHOD:PUBLISH
X-PUBLISHED-TTL:P3D
REFRESH-INTERVAL:P3D
CALSCALE:GREGORIAN
BEGIN:VEVENT
DTSTART:20190304T213000Z
DTEND:20190304T223000Z
X-MICROSOFT-CDO-ALLDAYEVENT:FALSE
SUMMARY:Beck Lecture Series: Becky Thompson and Sara Abou Rashed
DESCRIPTION:Denison University's Beck Lecture Series welcomes Becky Thompson and Sara Abou Rashed presenting a lecture and poetry reading.\n\n\nThompson and Rashed will read from "Making Mirrors: Righting/Writing by and for Refugees\," a volume co-edited by Thompson in which writing by Rashed appears.
X-ALT-DESC;FMTTYPE=text/html:<p><span style="background-color:transparent\; color:rgb(0\, 0\, 0)\; font-family:arial\; font-size:11pt">Denison University&rsquo\;s </span>Beck&nbsp\;<span style="background-color:transparent\; color:rgb(0\, 0\, 0)\; font-family:arial\; font-size:11pt">Lecture Series welcomes Becky Thompson and Sara Abou Rashed presenting a lecture and poetry reading.</span></p>\n\n<div>\n<p><span style="color:rgb(0\, 0\, 0)\; font-family:arial\; font-size:11pt">Thompson and Rashed will read from &ldquo\;Making Mirrors: Righting/Writing by and for Refugees\,&rdquo\; a volume co-edited by Thompson in which writing by Rashed appears.</span></p>\n\n<div>&nbsp\;</div>\n</div>\n
LOCATION:Denison University Barney-Davis Hall\, Boardroom 200 West Loop
UID:e.180.12465
SEQUENCE:3
DTSTAMP:20260420T034107Z
URL:http://business.granvilleoh.com/events/details/beck-lecture-series-becky-thompson-and-sara-abou-rashed-12465
END:VEVENT

END:VCALENDAR
