BEGIN:VCALENDAR
VERSION:2.0
PRODID:-//ChamberMaster//Event Calendar 2.0//EN
METHOD:PUBLISH
X-PUBLISHED-TTL:P3D
REFRESH-INTERVAL:P3D
CALSCALE:GREGORIAN
BEGIN:VEVENT
DTSTART:20191025T000000Z
DTEND:20191025T013000Z
X-MICROSOFT-CDO-ALLDAYEVENT:FALSE
SUMMARY:Beck Series presents Author Camille T. Dungy
DESCRIPTION:Denison University's Beck Series welcomes author Camille T. Dungy.\nDungy is the author of four books of poetry: "Trophic Cascade\; Smith Blue\," winner of the 2010 Crab Orchard Open Book Prize\; "Suck on the Marrow\," winner of the American Book Award\, "What to Eat\," "What to Drink\," "What to Leave for Poison." Her debut collection of personal essays is "Guidebook to Relative Strangers" was a finalist for the NBCC Award in 2017. She is editor of Black Nature: Four Centuries of African American Nature Poetry\; From the Fishouse: An anthology of Poems that Sing\, Rhyme\, Resound\, Syncopate\, Alliterate\, and Just Plain Sound Great\; and assistant editor of Gathering Ground: A Reader Celebrating Cave Canem's First Decade. Dungy is the recipient of fellowships and grants from the National Endowment for the Arts\, The Sustainable Arts Foundation\, The Diane Middlebrook Residency Fellowship of the Djerassi Resident Artist Program\, and other organizations. She is a professor of English at Colorado State University. Dungy was awarded a Guggenheim Fellowship in 2019.
X-ALT-DESC;FMTTYPE=text/html:<span style="font-family:arial\,helvetica\,sans-serif"><span style="font-size:18px"><span style="color:rgb(69\, 69\, 69)">Denison University&rsquo\;s Beck Series welcomes author </span></span></span><span style="background-color:transparent\; color:rgb(0\, 0\, 0)\; font-family:arial\; font-size:11pt">Camille T. Dungy.</span>\n<p><span style="background-color:transparent\; font-size:11pt">Dungy is the author of four books of poetry: &ldquo\;Trophic Cascade\; Smith Blue\,&rdquo\; winner of the 2010 Crab Orchard Open Book Prize\; &ldquo\;Suck on the Marrow\,&rdquo\; winner of the American Book Award\, &ldquo\;What to Eat\,&rdquo\; &ldquo\;What to Drink\,&rdquo\; &ldquo\;What to Leave for Poison.&rdquo\; Her debut collection of personal essays is &ldquo\;Guidebook to Relative Strangers&rdquo\; was a finalist for the NBCC Award in 2017. She is editor of Black Nature: Four Centuries of African American Nature Poetry\; From the Fishouse: An anthology of Poems that Sing\, Rhyme\, Resound\, Syncopate\, Alliterate\, and Just Plain Sound Great\; and assistant editor of Gathering Ground: A Reader Celebrating Cave Canem&rsquo\;s First Decade. Dungy is the recipient of fellowships and grants from the National Endowment for the Arts\, The Sustainable Arts Foundation\, The Diane Middlebrook Residency Fellowship of the Djerassi Resident Artist Program\, and other organizations. She is a professor of English at Colorado State University. Dungy was awarded a Guggenheim Fellowship in 2019.</span></p>\n
LOCATION:Denison University Barney-Davis Hall Board Room 200 West Loop
UID:e.180.12805
SEQUENCE:3
DTSTAMP:20260422T132238Z
URL:http://business.granvilleoh.com/events/details/beck-series-presents-author-camille-t-dungy-12805
END:VEVENT

END:VCALENDAR
