BEGIN:VCALENDAR
VERSION:2.0
PRODID:-//ChamberMaster//Event Calendar 2.0//EN
METHOD:PUBLISH
X-PUBLISHED-TTL:P3D
REFRESH-INTERVAL:P3D
CALSCALE:GREGORIAN
BEGIN:VEVENT
DTSTART:20190904T203000Z
DTEND:20190904T213000Z
X-MICROSOFT-CDO-ALLDAYEVENT:FALSE
SUMMARY:Beck Series presents Author David Lynn
DESCRIPTION:Denison University's Beck Series welcomes author David Lynn reading from his story collection "Children of God."\nLynn has been the editor of The Kenyon Review\, an international journal of literature\, culture and the arts\, since 1994. As an author\, he received a 2016 O. Henry Prize for "Divergence." An earlier volume\, "Year of Fire\," was published in 2006 by Harcourt. He is also the author of the novel "Wrestling with Gabriel\," an earlier collection of stories\, "Fortune Telling\," and "The Hero's Tale: Narrators in the Early Modern Novel\," a critical study. His stories and essays have appeared in magazines and journals in America\, England\, India\, and Australia. Other awards include the Glimmer Train Short Story Prize 2015\, the Frank O'Connor International Short Story Award Finalist\, and the Ohioana Library Association Award for Editorial Excellence.
X-ALT-DESC;FMTTYPE=text/html:<span style="font-family:arial\,helvetica\,sans-serif"><span style="font-size:18px"><span style="color:rgb(69\, 69\, 69)">Denison University&rsquo\;s Beck Series welcomes author David Lynn reading from&nbsp\;his story collection &ldquo\;Children of God.&rdquo\;</span></span></span>\n<p><span style="font-family:arial\,helvetica\,sans-serif"><span style="font-size:18px"><span style="background-color:transparent">Lynn has been the editor of The Kenyon Review\, an international journal of literature\, culture and the arts\, since 1994. As an author\, he received a 2016 O. Henry Prize for &quot\;Divergence.&rdquo\; An earlier volume\, &ldquo\;Year of Fire\,&rdquo\; was published in 2006 by Harcourt. He is also the author of the novel &ldquo\;Wrestling with Gabriel\,&rdquo\; an earlier collection of stories\, &ldquo\;Fortune Telling\,&rdquo\; and &ldquo\;The Hero&rsquo\;s Tale: Narrators in the Early Modern Novel\,&rdquo\; a critical study. His stories and essays have appeared in magazines and journals in America\, England\, India\, and Australia. Other awards include the Glimmer Train Short Story Prize 2015\, the Frank O&rsquo\;Connor International Short Story Award Finalist\, and the Ohioana Library Association Award for Editorial Excellence.</span></span></span></p>\n
LOCATION:Denison University Barney-Davis Hall Board Room 200 West Loop
UID:e.180.12697
SEQUENCE:3
DTSTAMP:20260422T115319Z
URL:http://business.granvilleoh.com/events/details/beck-series-presents-author-david-lynn-12697
END:VEVENT

END:VCALENDAR
