BEGIN:VCALENDAR
VERSION:2.0
PRODID:-//ChamberMaster//Event Calendar 2.0//EN
METHOD:PUBLISH
X-PUBLISHED-TTL:P3D
REFRESH-INTERVAL:P3D
CALSCALE:GREGORIAN
BEGIN:VEVENT
DTSTART:20190918T220000Z
DTEND:20190919T000000Z
X-MICROSOFT-CDO-ALLDAYEVENT:FALSE
SUMMARY:Beck Series presents Author Tayari Jones
DESCRIPTION:Denison University's Beck Series welcomes author Tayari Jones.  Jones is the author of "An American Marriage."  Jones will present a reception followed by a reading at the Columbus Museum of Art.\n\n\n\nJones is the author of four novels\, "An American Marriage\," an Oprah Book Club pick\, the 2019 Women's Prize for Fiction in Great Britain\, the 2019 Aspen Words Literary Prize\, and the 2019 NAAP Image Award for Outstanding Literary Work Fiction\; "Silver Sparrow\," chosen for the NEA's Big Read Library\; "The Untelling\," and "Leaving Atlanta." Jones holds degrees from Spelman College\, Arizona State University\, and the University of Iowa. She has received fellowships from the Radcliffe Institute For Advanced Studies\, United States Artist Foundation\, and Black Mountain Institute. She lives in Atlanta\, where she is Professor of English and Creative Writing at Emory University. $25 for public admission. $15 for Denison alums.\n\n\n\nReception at 6 p.m.\n\n\n\nReading at 7 p.m. followed by a signing\n\n.
X-ALT-DESC;FMTTYPE=text/html:<p>Denison University&rsquo\;s Beck Series welcomes author Tayari Jones.&nbsp\; Jones is the author of &ldquo\;An American Marriage.&rdquo\;&nbsp\; Jones will present&nbsp\;a&nbsp\;reception followed by a reading at the Columbus Museum of Art.<br />\n<br />\n<span style="background-color:transparent\; font-size:11pt">Jones is the author of four novels\, &ldquo\;An American Marriage\,&rdquo\; an Oprah Book Club pick\, the 2019 Women&rsquo\;s Prize for Fiction in Great Britain\, the 2019 Aspen Words Literary Prize\, and the 2019 NAAP Image Award for Outstanding Literary Work&mdash\;Fiction\; &ldquo\;Silver Sparrow\,&rdquo\; chosen for the NEA&rsquo\;s Big Read Library\; &ldquo\;The Untelling\,&rdquo\; and &ldquo\;Leaving Atlanta.&rdquo\; Jones holds degrees from Spelman College\, Arizona State University\, and the University of Iowa. She has received fellowships from the Radcliffe Institute For Advanced Studies\, United States Artist Foundation\, and Black Mountain Institute. She lives in Atlanta\, where she is Professor of English and Creative Writing at Emory University. $25 for public admission. $15 for Denison alums.<br />\n<br />\nReception at 6 p.m.<br />\n<br />\nReading at 7 p.m. followed by a signing</span></p>\n\n<p>.</p>\n\n<div><br />\n&nbsp\;</div>\n
LOCATION:Columbus Museum of Art 480 East Broad Street Columbus\, OH 43023
UID:e.180.12696
SEQUENCE:3
DTSTAMP:20260422T115727Z
URL:http://business.granvilleoh.com/events/details/beck-series-presents-author-tayari-jones-12696
END:VEVENT

END:VCALENDAR
