BEGIN:VCALENDAR
VERSION:2.0
PRODID:-//ChamberMaster//Event Calendar 2.0//EN
METHOD:PUBLISH
X-PUBLISHED-TTL:P3D
REFRESH-INTERVAL:P3D
CALSCALE:GREGORIAN
BEGIN:VEVENT
DTSTART:20191015T203000Z
DTEND:20191015T220000Z
X-MICROSOFT-CDO-ALLDAYEVENT:FALSE
SUMMARY:Beck Series presents Nicole Walker
DESCRIPTION:Denison University's Beck Series presents author Nicole Walker.\n\n\n\nWalker is the author of\, most recently\, "The After-Normal: Brief\, Alphabetical Essays on a Changing Planet and Sustainability: A Love Story and A Survival Guide for Life in the Ruins." Her previous books include "Where the Tiny Things Are\," "Egg\," "Micrograms\," "Quench Your Thirst with Salt\," and "This Noisy Egg." Her work has been published in Orion\, Boston Review\, Creative Nonfiction\, Brevity\, The Normal School and other places. She is a recipient of a fellowship from the National Endowment for the Arts and is noted in multiple editions of Best American Essays. She's nonfiction editor at Diagram and Professor at Northern Arizona University in Flagstaff\, Arizona.
X-ALT-DESC;FMTTYPE=text/html:<span style="background-color:transparent\; color:rgb(0\, 0\, 0)\; font-family:arial\; font-size:11pt">Denison University&#39\;s Beck Series presents&nbsp\;</span><span style="background-color:transparent\; font-size:11pt">author Nicole Walker.</span><br />\n<br />\n<span style="background-color:transparent\; font-size:11pt">Walker is the author of\, most recently\, &ldquo\;The After-Normal: Brief\, Alphabetical Essays on a Changing Planet and Sustainability: A Love Story and A Survival Guide for Life in the Ruins.&rdquo\; Her previous books include &ldquo\;Where the Tiny Things Are\,&rdquo\; &ldquo\;Egg\,&rdquo\; &ldquo\;Micrograms\,&rdquo\; &ldquo\;Quench Your Thirst with Salt\,&rdquo\; and &ldquo\;This Noisy Egg.&rdquo\; Her work has been published in Orion\, Boston Review\, Creative Nonfiction\, Brevity\, The Normal School and other places. She is a recipient of a fellowship from the National Endowment for the Arts and is noted in multiple editions of Best American Essays. She&rsquo\;s nonfiction editor at Diagram and Professor at Northern Arizona University in Flagstaff\, Arizona.</span>
LOCATION:Denison University Boardroom of Barney-Davis Hall 200 West Loop
UID:e.180.12804
SEQUENCE:3
DTSTAMP:20260422T131509Z
URL:http://business.granvilleoh.com/events/details/beck-series-presents-nicole-walker-12804
END:VEVENT

END:VCALENDAR
