BEGIN:VCALENDAR
VERSION:2.0
PRODID:-//ChamberMaster//Event Calendar 2.0//EN
METHOD:PUBLISH
X-PUBLISHED-TTL:P3D
REFRESH-INTERVAL:P3D
CALSCALE:GREGORIAN
BEGIN:VEVENT
DTSTART:20181031T213000Z
DTEND:20181031T230000Z
X-MICROSOFT-CDO-ALLDAYEVENT:FALSE
SUMMARY:Beggar's Night at the Library
DESCRIPTION:Trick-or-treaters can pick up a free book in front of the library from 5:30-7pm.
X-ALT-DESC;FMTTYPE=text/html:Trick-or-treaters can pick up a free book in front of the library from 5:30-7pm.
LOCATION:Granville Public Library
UID:e.180.12141
SEQUENCE:3
DTSTAMP:20260419T210215Z
URL:http://business.granvilleoh.com/events/details/beggar-s-night-at-the-library-12141
END:VEVENT

END:VCALENDAR
