BEGIN:VCALENDAR
VERSION:2.0
PRODID:-//ChamberMaster//Event Calendar 2.0//EN
METHOD:PUBLISH
X-PUBLISHED-TTL:P3D
REFRESH-INTERVAL:P3D
CALSCALE:GREGORIAN
BEGIN:VEVENT
DTSTART:20190919T230000Z
DTEND:20190920T000000Z
X-MICROSOFT-CDO-ALLDAYEVENT:FALSE
SUMMARY:Behind the Science: 'Shouting Over Waterfalls' by Heather Rhodes
DESCRIPTION:Denison University's Associate Professor of Biology Heather Rhodes presenting "Shouting Over Waterfalls" in the SciDome at The Works. \n\nAnimals have used sound to solve some pretty amazing problems\, like finding food or navigating in the dark\, communicating over long distances\, and even finding each other in really noisy places   like waterfalls! Join Rhodes and discover some of the fascinating ways animals use sound and how that biology is inspiring new technology for humans.\n\n\n\n$10/Free for The Works members\n\nhttps://67867.blackbaudhosting.com/67867/Behind-the-Science-19Sep2019
X-ALT-DESC;FMTTYPE=text/html:<p>Denison University&rsquo\;s Associate Professor of Biology Heather Rhodes presenting &ldquo\;Shouting Over Waterfalls&rdquo\; in the SciDome at The Works.&nbsp\;</p>\n\n<p>Animals have used sound to solve some pretty amazing problems\, like finding food or navigating in the dark\, communicating over long distances\, and even finding each other in really noisy places &ndash\; like waterfalls! Join Rhodes and discover some of the fascinating ways animals use sound and how that biology is inspiring new technology for humans.<br />\n<br />\n<span style="color:rgb(69\, 69\, 69)\; font-family:freight sans pro w00\; font-size:19.2px">$10/Free for The Works members</span><br />\n<a href="https://67867.blackbaudhosting.com/67867/Behind-the-Science-19Sep2019">https://67867.blackbaudhosting.com/67867/Behind-the-Science-19Sep2019</a><br />\n&nbsp\;</p>\n
LOCATION:The Works Museum 55 South First Street Newark\, OH 43055
UID:e.180.12886
SEQUENCE:3
DTSTAMP:20260422T131530Z
URL:http://business.granvilleoh.com/events/details/behind-the-science-shouting-over-waterfalls-by-heather-rhodes-12886
END:VEVENT

END:VCALENDAR
