BEGIN:VCALENDAR
VERSION:2.0
PRODID:-//ChamberMaster//Event Calendar 2.0//EN
METHOD:PUBLISH
X-PUBLISHED-TTL:P3D
REFRESH-INTERVAL:P3D
CALSCALE:GREGORIAN
BEGIN:VEVENT
DTSTART:20181216T190000Z
DTEND:20181216T203000Z
X-MICROSOFT-CDO-ALLDAYEVENT:FALSE
SUMMARY:‘Beyond the Doors’ – site performance at Bryn Du Mansion
DESCRIPTION:Denison University Department of Dance presents "Beyond the Doors"   a site performance.\n\n\n\nStudents taking the course Site Dance: Body and Environment will perform site works on the 3rd floor of Bryn Du Mansion\, responding to the history\, architecture\, and cultural significance of the Bryn Du Mansion.
X-ALT-DESC;FMTTYPE=text/html:<span style="background-color:transparent\; color:rgb(0\, 0\, 0)\; font-family:arial\; font-size:11pt">Denison University Department of Dance presents &ldquo\;Beyond the Doors&rdquo\; &ndash\; a site performance.<br />\n<br />\nStudents taking the course Site Dance: Body and Environment will perform site works on the 3rd floor of Bryn Du Mansion\, responding to the history\, architecture\, and cultural significance of the Bryn Du Mansion. </span>
LOCATION:Denison University Bryn Du Mansion 537 Jones Road
UID:e.180.12268
SEQUENCE:3
DTSTAMP:20260419T233517Z
URL:http://business.granvilleoh.com/events/details/beyond-the-doors-site-performance-at-bryn-du-mansion-12268
END:VEVENT

END:VCALENDAR
