BEGIN:VCALENDAR
VERSION:2.0
PRODID:-//ChamberMaster//Event Calendar 2.0//EN
METHOD:PUBLISH
X-PUBLISHED-TTL:P3D
REFRESH-INTERVAL:P3D
CALSCALE:GREGORIAN
BEGIN:VEVENT
DTSTART:20190501T223000Z
DTEND:20190501T233000Z
X-MICROSOFT-CDO-ALLDAYEVENT:FALSE
SUMMARY:Bingo For Books: A TYSO Week Event
DESCRIPTION:Turn Your Screen Off and join us for Bingo! All ages welcome! We'll be playing bingo for book prizes. Children under the age of 10 must be accompanied by an adult.
X-ALT-DESC;FMTTYPE=text/html:Turn Your Screen Off and join us for Bingo! All ages welcome! We&#39\;ll be playing bingo for book prizes. Children under the age of 10 must be accompanied by an adult.
LOCATION:Granville Public Library
UID:e.180.12569
SEQUENCE:3
DTSTAMP:20260420T064406Z
URL:http://business.granvilleoh.com/events/details/bingo-for-books-a-tyso-week-event-12569
END:VEVENT

END:VCALENDAR
