BEGIN:VCALENDAR
VERSION:2.0
PRODID:-//ChamberMaster//Event Calendar 2.0//EN
METHOD:PUBLISH
X-PUBLISHED-TTL:P3D
REFRESH-INTERVAL:P3D
CALSCALE:GREGORIAN
BEGIN:VEVENT
DTSTART:20180717T170000Z
DTEND:20180717T180000Z
X-MICROSOFT-CDO-ALLDAYEVENT:FALSE
SUMMARY:Birding by Ear
DESCRIPTION:Ohio Nature Education and four live birds will help you learn how to identify birds through song. Rising Grades 1 to 6.
X-ALT-DESC;FMTTYPE=text/html:Ohio Nature Education and four live birds will help you learn how to identify birds through song. Rising Grades 1 to 6.
LOCATION:Granville Public Library
UID:e.180.12053
SEQUENCE:3
DTSTAMP:20260419T165922Z
URL:http://business.granvilleoh.com/events/details/birding-by-ear-12053
END:VEVENT

END:VCALENDAR
