BEGIN:VCALENDAR
VERSION:2.0
PRODID:-//ChamberMaster//Event Calendar 2.0//EN
METHOD:PUBLISH
X-PUBLISHED-TTL:P3D
REFRESH-INTERVAL:P3D
CALSCALE:GREGORIAN
BEGIN:VEVENT
DTSTART:20191001T230000Z
DTEND:20191002T000000Z
X-MICROSOFT-CDO-ALLDAYEVENT:FALSE
SUMMARY:Blowing off STEAM: Confronting Climate Change through Photography
DESCRIPTION:with Abram Kaplan\, Denison University Environmental Studies. Science\, Technology\, Engineering\, Art\, Math (STEAM) talks are informal community-based open forum disucssions featuring different topic leaders each month. Free and open to the public! Brought to you by the Ohio State University\, Denison University\, and Granville Public Library
X-ALT-DESC;FMTTYPE=text/html:with Abram Kaplan\, Denison University Environmental Studies. Science\, Technology\, Engineering\, Art\, Math (STEAM) talks are informal community-based open forum disucssions featuring different topic leaders each month. Free and open to the public! Brought to you by the Ohio State University\, Denison University\, and Granville Public Library
LOCATION:Granville Public Library
UID:e.180.12828
SEQUENCE:3
DTSTAMP:20260422T131502Z
URL:http://business.granvilleoh.com/events/details/blowing-off-steam-confronting-climate-change-through-photography-12828
END:VEVENT

END:VCALENDAR
