BEGIN:VCALENDAR
VERSION:2.0
PRODID:-//ChamberMaster//Event Calendar 2.0//EN
METHOD:PUBLISH
X-PUBLISHED-TTL:P3D
REFRESH-INTERVAL:P3D
CALSCALE:GREGORIAN
BEGIN:VEVENT
DTSTART:20180706T200000Z
DTEND:20180706T230000Z
X-MICROSOFT-CDO-ALLDAYEVENT:FALSE
SUMMARY:Blue\, White and BOOM! GHS Alumni Event
DESCRIPTION:The Granville Education Foundation invites all GHS alumni\, staff\, and teachers for this third annual get together.
X-ALT-DESC;FMTTYPE=text/html:The Granville Education Foundation invites all GHS alumni\, staff\, and teachers for this third annual get together.
LOCATION:Robbins Hunter Museum 221 E Broadway Granville\, OH 43023
UID:e.180.11978
SEQUENCE:3
DTSTAMP:20260419T182110Z
URL:http://business.granvilleoh.com/events/details/blue-white-and-boom-ghs-alumni-event-11978
END:VEVENT

END:VCALENDAR
