BEGIN:VCALENDAR
VERSION:2.0
PRODID:-//ChamberMaster//Event Calendar 2.0//EN
METHOD:PUBLISH
X-PUBLISHED-TTL:P3D
REFRESH-INTERVAL:P3D
CALSCALE:GREGORIAN
BEGIN:VEVENT
DTSTART:20181106T233000Z
DTEND:20181107T003000Z
X-MICROSOFT-CDO-ALLDAYEVENT:FALSE
SUMMARY:Book Tasting for 4-6 Graders
DESCRIPTION:Looking for a good book? Expand your reading pallet by sampling books from different genres.
X-ALT-DESC;FMTTYPE=text/html:Looking for a good book? Expand your reading pallet by sampling books from different genres.
LOCATION:Granville Public Library
UID:e.180.12227
SEQUENCE:3
DTSTAMP:20260419T222534Z
URL:http://business.granvilleoh.com/events/details/book-tasting-for-4-6-graders-12227
END:VEVENT

END:VCALENDAR
