BEGIN:VCALENDAR
VERSION:2.0
PRODID:-//ChamberMaster//Event Calendar 2.0//EN
METHOD:PUBLISH
X-PUBLISHED-TTL:P3D
REFRESH-INTERVAL:P3D
CALSCALE:GREGORIAN
BEGIN:VEVENT
DTSTART:20190403T180000Z
DTEND:20190403T200000Z
X-MICROSOFT-CDO-ALLDAYEVENT:FALSE
SUMMARY:Books2Eat Edible Book Festival
DESCRIPTION:The opportunity to eat your words\, or the words of others\, continues as Denison University Library celebrates the International Edible Books Festival.\n\nEntries must be brought to the Library's Atrium between 2-2:30 p.m. Each entry should feature works of edible art in the form of books\, words\, or inspirations from books. Past entries have been as simple\, and witty\, as suckers to represent Five Flavors of Dumb\, to complex as a cake that replicated the cover of Harry Potter and the Deathly Hallows. Judging will include the following categories: Most Creative\, Most Hilarious\, Most Bookish\, Best Presentation and Best of Show. Entries will be judged by four selected members of the Denison community between 2:30 and 3 p.m. Winners will be announced and prizes awarded by 3:15 p.m. After the awards presentation\, all entries will be served and eaten! The event also includes afternoon tea with sandwiches and other savories and various hot and cold beverages.
X-ALT-DESC;FMTTYPE=text/html:<span style="background-color:transparent\; color:rgb(34\, 34\, 34)\; font-family:times new roman\; font-size:12pt">The opportunity to eat your words\, or the words of others\, continues as Denison University Library celebrates the International Edible Books Festival.</span>\n\n<p><span style="background-color:transparent\; color:rgb(34\, 34\, 34)\; font-family:times new roman\; font-size:12pt">Entries must be brought to the Library&rsquo\;s Atrium between 2-2:30 p.m. Each entry should feature works of edible art in the form of books\, words\, or inspirations from books. Past entries have been as simple\, and witty\, as suckers to represent Five Flavors of Dumb\, to complex as a cake that replicated the cover of Harry Potter and the Deathly Hallows. Judging will include the following categories: Most Creative\, Most Hilarious\, Most Bookish\, Best Presentation and Best of Show. Entries will be judged by four selected members of the Denison community between 2:30 and 3 p.m. Winners will be announced and prizes awarded by 3:15 p.m. After the awards presentation\, all entries will be served and eaten! The event also includes afternoon tea with sandwiches and other savories and various hot and cold beverages. </span></p>\n\n<div>&nbsp\;</div>\n
LOCATION:Denison University Library Atrium 400 West Loop
UID:e.180.12578
SEQUENCE:3
DTSTAMP:20260420T051233Z
URL:http://business.granvilleoh.com/events/details/books2eat-edible-book-festival-12578
END:VEVENT

END:VCALENDAR
