BEGIN:VCALENDAR
VERSION:2.0
PRODID:-//ChamberMaster//Event Calendar 2.0//EN
METHOD:PUBLISH
X-PUBLISHED-TTL:P3D
REFRESH-INTERVAL:P3D
CALSCALE:GREGORIAN
BEGIN:VEVENT
DTSTART:20191101T160000Z
DTEND:20191101T180000Z
X-MICROSOFT-CDO-ALLDAYEVENT:FALSE
SUMMARY:Bryan Mukandi presents a lecture
DESCRIPTION:Denison University welcomes Professor of Philosophy at the University of Queensland\, Australia Bryan Mukandi presenting\, "Grounds: An African Philosophical Reading of Movement\, Possibility and Liberty."\nThis talk considers the contours of African being in light of Steve Biko's suggestion that European colonialism hollowed out the Black\, reducing her to a person "only in form." This hollowed out individual\, according to Biko\, needs to somehow work out their personhood. Mukandi will proceed by way of a comparative reading of the early modern European philosopher\, Ren  Descartes\, and the contemporary Senegalese philosopher\, Souleymane Bachir Diagne. While there are clear differences between these philosophers\, Mukandi argues that both leave unanswered the question as to whether their meditations are available to the "commoner." Mukandi will then contrast the prescriptions advanced by Descartes and Diagne against the image of African sociality that the Ugandan writer Jennifer Nansubuga Makumbi renders in her visionary novel\, "Kintu." Mukandi's ultimate interest is in the African whose circumstances resemble the lot of the majority of residents in most African cities today. Is there any degree of intelligence that can shift them from the path onto which they have been set?\n\nThe event is sponsored by The Africanist Group at Denison University\, The Lisska Center for Scholarly Engagement\, The Department of Communication\, The Titus-Hepp Lecture Fund and the Philosophy Department and the Anthropology and Sociology Department.
X-ALT-DESC;FMTTYPE=text/html:<span style="background-color:transparent\; color:rgb(0\, 0\, 0)\; font-family:arial\; font-size:11pt">Denison University welcomes Professor of Philosophy at the University of Queensland\, Australia Bryan Mukandi presenting\, &quot\;Grounds: An African Philosophical Reading of Movement\, Possibility and Liberty.&quot\;</span>\n<p><span style="background-color:transparent\; color:rgb(0\, 0\, 0)\; font-family:arial\; font-size:11pt">This talk considers the contours of African being in light of Steve Biko&rsquo\;s suggestion that European colonialism hollowed out the Black\, reducing her to a person &ldquo\;only in form.&rdquo\; This hollowed out individual\, according to Biko\, needs to somehow work out their personhood. Mukandi will proceed by way of a comparative reading of the early modern European philosopher\, Ren&eacute\; Descartes\, and the contemporary Senegalese philosopher\, Souleymane Bachir Diagne. While there are clear differences between these philosophers\, Mukandi argues that both leave unanswered the question as to whether their meditations are available to the &ldquo\;commoner.&rdquo\; Mukandi will then contrast the prescriptions advanced by Descartes and Diagne against the image of African sociality that the Ugandan writer Jennifer Nansubuga Makumbi renders in her visionary novel\, &quot\;Kintu.&quot\; Mukandi&#39\;s ultimate interest is in the African whose circumstances resemble the lot of the majority of residents in most African cities today. Is there any degree of intelligence that can shift them from the path onto which they have been set?</span></p>\n\n<p><span style="background-color:transparent\; color:rgb(0\, 0\, 0)\; font-family:arial\; font-size:11pt">The event is sponsored by The Africanist Group at Denison University\, The Lisska Center for Scholarly Engagement\, The Department of Communication\, The Titus-Hepp Lecture Fund and the Philosophy Department and the Anthropology and Sociology Department.</span></p>\n\n<div>&nbsp\;</div>\n
LOCATION:Denison University Room 105 of Higley Hall 100 Ridge Road
UID:e.180.13924
SEQUENCE:3
DTSTAMP:20260422T144101Z
URL:http://business.granvilleoh.com/events/details/bryan-mukandi-presents-a-lecture-13924
END:VEVENT

END:VCALENDAR
