BEGIN:VCALENDAR
VERSION:2.0
PRODID:-//ChamberMaster//Event Calendar 2.0//EN
METHOD:PUBLISH
X-PUBLISHED-TTL:P3D
REFRESH-INTERVAL:P3D
CALSCALE:GREGORIAN
BEGIN:VEVENT
DTSTART:20180607T220000Z
DTEND:20180608T020000Z
X-MICROSOFT-CDO-ALLDAYEVENT:FALSE
SUMMARY:Bud\, Jazz\, & Ribs Fest
DESCRIPTION:Kickoff the summer with The Trout Club's Bud\, Jazz\, and Ribs Fest! A portion of the proceeds for this event will benefit the Licking County Humane Society. Tickets are pre-sale only. The cost is $25 per person and includes entry\, a half rack of ribs\, and some of your favorite backyard BBQ sides. The Trout Club will also have live music by Just Jazz Live\, beer specials\, games and prizes by Matesich Distributing\, a cornhole tournament\, and a meet n' greet with LCHS dogs!
X-ALT-DESC;FMTTYPE=text/html:Kickoff the summer with The Trout Club&rsquo\;s Bud\, Jazz\, and Ribs Fest! A portion of the proceeds for this event will benefit the Licking County Humane Society. Tickets are pre-sale only. The cost is $25 per person and includes entry\, a half rack of ribs\, and some of your favorite backyard BBQ sides. The Trout Club will also have live music by Just Jazz Live\, beer specials\, games and prizes by Matesich Distributing\, a cornhole tournament\, and a meet n&rsquo\; greet with LCHS dogs!
LOCATION:The Trout Club 2250 Horns Hill Rd Newark\, OH 43055
UID:e.180.12010
SEQUENCE:3
DTSTAMP:20260419T153150Z
URL:http://business.granvilleoh.com/events/details/bud-jazz-ribs-fest-12010
END:VEVENT

END:VCALENDAR
