BEGIN:VCALENDAR
VERSION:2.0
PRODID:-//ChamberMaster//Event Calendar 2.0//EN
METHOD:PUBLISH
X-PUBLISHED-TTL:P3D
REFRESH-INTERVAL:P3D
CALSCALE:GREGORIAN
BEGIN:VEVENT
DTSTART:20190130T220000Z
DTEND:20190131T000000Z
X-MICROSOFT-CDO-ALLDAYEVENT:FALSE
SUMMARY:Business After Hours at Moe's BBQ Granville
DESCRIPTION:Come mix and mingle with fellow chamber members at the January After Hours event at Moe's BBQ.  We will gather upstairs for beverages and light bites!
X-ALT-DESC;FMTTYPE=text/html:Come mix and mingle with fellow chamber members at the January After Hours event at Moe&#39\;s BBQ.&nbsp\; We will gather upstairs for beverages and light bites!
LOCATION:Moe's BBQ (upstairs) 128 E Broadway Granville\, OH 43023
UID:e.180.12308
SEQUENCE:3
DTSTAMP:20260420T023009Z
URL:http://business.granvilleoh.com/events/details/business-after-hours-at-moe-s-bbq-granville-12308
END:VEVENT

END:VCALENDAR
