BEGIN:VCALENDAR
VERSION:2.0
PRODID:-//ChamberMaster//Event Calendar 2.0//EN
METHOD:PUBLISH
X-PUBLISHED-TTL:P3D
REFRESH-INTERVAL:P3D
CALSCALE:GREGORIAN
BEGIN:VEVENT
DTSTART:20191023T210000Z
DTEND:20191023T230000Z
X-MICROSOFT-CDO-ALLDAYEVENT:FALSE
SUMMARY:Business After Hours at Raccoon Creek Farms
DESCRIPTION:Join us at nearby Raccoon Creek Farms for an enjoyable autumn evening of networking along with an enlightening tour and views of the Farm's state-of-the-art greenhouse grown specialty greens and herbs.  Our hosts Mary Flynn and her son Patrick are eager to describe their unconventional\, yet highly sustainable\, efforts in Controlled Environment Agriculture.  Come join us for some wine\, some appetizers\, and stimulating conversation!
X-ALT-DESC;FMTTYPE=text/html:Join us at nearby Raccoon Creek Farms for an enjoyable autumn evening of networking along with an enlightening tour and views of the Farm&#39\;s state-of-the-art greenhouse grown specialty greens and herbs.&nbsp\; Our hosts Mary Flynn and her son Patrick are eager to describe their unconventional\, yet highly sustainable\, efforts in Controlled Environment Agriculture.&nbsp\; Come join us for some wine\, some appetizers\, and stimulating conversation!&nbsp\;
LOCATION:3351 Raccoon Valley Road Granville\, OH 43023
UID:e.180.13923
SEQUENCE:3
DTSTAMP:20260422T132635Z
URL:http://business.granvilleoh.com/events/details/business-after-hours-at-raccoon-creek-farms-13923
END:VEVENT

END:VCALENDAR
