BEGIN:VCALENDAR
VERSION:2.0
PRODID:-//ChamberMaster//Event Calendar 2.0//EN
METHOD:PUBLISH
X-PUBLISHED-TTL:P3D
REFRESH-INTERVAL:P3D
CALSCALE:GREGORIAN
BEGIN:VEVENT
DTSTART:20181115T220000Z
DTEND:20181116T000000Z
X-MICROSOFT-CDO-ALLDAYEVENT:FALSE
SUMMARY:Business After Hours at Robbins Hunter Museum - Special Holiday Edition
DESCRIPTION:Come mix and mingle with your fellow Chamber members at this special November After Hours networking event.  We will gather at the Robbins Hunter Museum for light snacks and beverages provided by Alfie's Wholesome Foods and Three Oaks Vineyard.  Come get your first look at the Museum adorned in it's holiday finest!
X-ALT-DESC;FMTTYPE=text/html:<span style="color: rgb(51\, 51\, 51)\; font-family: sans-serif\, Arial\, Verdana\, &quot\;Trebuchet MS&quot\;\; font-size: 13px\; background-color: rgb(255\, 255\, 255)\;">Come mix and mingle with your fellow Chamber members at this special November After Hours networking event.&nbsp\; We will gather at the Robbins Hunter Museum for light snacks and beverages provided by Alfie&#39\;s Wholesome Foods and Three Oaks Vineyard.&nbsp\; Come get your first look at the Museum adorned in it&#39\;s holiday finest!</span>
LOCATION:Robbins Hunter Museum 221 E Broadway Granville\, OH 43023
UID:e.180.12208
SEQUENCE:3
DTSTAMP:20260419T222913Z
URL:http://business.granvilleoh.com/events/details/business-after-hours-at-robbins-hunter-museum-special-holiday-edition-12208
END:VEVENT

END:VCALENDAR
