BEGIN:VCALENDAR
VERSION:2.0
PRODID:-//ChamberMaster//Event Calendar 2.0//EN
METHOD:PUBLISH
X-PUBLISHED-TTL:P3D
REFRESH-INTERVAL:P3D
CALSCALE:GREGORIAN
BEGIN:VEVENT
DTSTART:20190626T210000Z
DTEND:20190626T230000Z
X-MICROSOFT-CDO-ALLDAYEVENT:FALSE
SUMMARY:Business After Hours at the Denison Golf Club at Granville
DESCRIPTION:Come join us in the Clubhouse at the Denison Golf Club!  You'll have opportunity to meet\, mix\, and mingle with your fellow Granville Area Chamber members and their guests.  We can't think of a better way to network while enjoying an early summer evening!
X-ALT-DESC;FMTTYPE=text/html:Come join us in the Clubhouse at the Denison Golf Club!&nbsp\; You'll have opportunity to meet\, mix\, and mingle with your fellow Granville Area Chamber members and their guests.&nbsp\; We can't think of a better way to network while enjoying an early summer evening!
LOCATION:Denison Golf Club at Granville 555 Newark Granville Road Granville\, OH 43023
UID:e.180.12620
SEQUENCE:3
DTSTAMP:20260420T083712Z
URL:http://business.granvilleoh.com/events/details/business-after-hours-at-the-denison-golf-club-at-granville-06-26-2019-12620
END:VEVENT

END:VCALENDAR
