BEGIN:VCALENDAR
VERSION:2.0
PRODID:-//ChamberMaster//Event Calendar 2.0//EN
METHOD:PUBLISH
X-PUBLISHED-TTL:P3D
REFRESH-INTERVAL:P3D
CALSCALE:GREGORIAN
BEGIN:VEVENT
DTSTART:20180425T210000Z
DTEND:20180425T230000Z
X-MICROSOFT-CDO-ALLDAYEVENT:FALSE
SUMMARY:Business After Hours at the Denison Golf Club at Granville
DESCRIPTION:Join us for our April Business After Hours Networking Gathering!  This time we will rendezvous at the Denison Golf Club at Granville for lively interaction\, informal networking\, and tasty hors d'oeuvres and libations courtesy of our host.  Come meet and mingle with your fellow Chamber members and colleagues.
X-ALT-DESC;FMTTYPE=text/html:Join us for our April Business After Hours Networking Gathering! &nbsp\;This time we will rendezvous at the Denison Golf Club at Granville for lively interaction\, informal networking\, and tasty hors d&#39\;oeuvres and libations courtesy of our host. &nbsp\;Come meet and mingle with your fellow Chamber members and colleagues.<br />\n&nbsp\;
LOCATION:Denison Golf Club at Granville 555 Newark Granville Rd Granville\, OH 43023
UID:e.180.11930
SEQUENCE:3
DTSTAMP:20260421T082227Z
URL:http://business.granvilleoh.com/events/details/business-after-hours-at-the-denison-golf-club-at-granville-11930
END:VEVENT

END:VCALENDAR
