BEGIN:VCALENDAR
VERSION:2.0
PRODID:-//ChamberMaster//Event Calendar 2.0//EN
METHOD:PUBLISH
X-PUBLISHED-TTL:P3D
REFRESH-INTERVAL:P3D
CALSCALE:GREGORIAN
BEGIN:VEVENT
DTSTART:20180822T210000Z
DTEND:20180822T230000Z
X-MICROSOFT-CDO-ALLDAYEVENT:FALSE
SUMMARY:Business After Hours at the Granville Historical Society
DESCRIPTION:Join us for informal networking among fellow Chamber members and guests at the Granville Historical Society.  You'll have the opportunity to check out the Museum's featured exhibits - Granville On Wheels\, Remembering World War I\, and Granville On The Farm while socializing and enjoying tasty refreshments and libations!  Come and bring a guest!
X-ALT-DESC;FMTTYPE=text/html:Join us for informal networking among fellow Chamber members and guests at the Granville Historical Society.&nbsp\; You&#39\;ll have the opportunity to check out the Museum&#39\;s featured exhibits - Granville On Wheels\, Remembering World War I\, and Granville On The Farm while socializing and enjoying tasty refreshments and libations!&nbsp\; Come and bring a guest!
LOCATION:Granville Historical Society 115 E. Broadway Granville\, OH 43023
UID:e.180.12090
SEQUENCE:3
DTSTAMP:20260419T183132Z
URL:http://business.granvilleoh.com/events/details/business-after-hours-at-the-granville-historical-society-12090
END:VEVENT

END:VCALENDAR
