BEGIN:VCALENDAR
VERSION:2.0
PRODID:-//ChamberMaster//Event Calendar 2.0//EN
METHOD:PUBLISH
X-PUBLISHED-TTL:P3D
REFRESH-INTERVAL:P3D
CALSCALE:GREGORIAN
BEGIN:VEVENT
DTSTART:20180523T210000Z
DTEND:20180523T230000Z
X-MICROSOFT-CDO-ALLDAYEVENT:FALSE
SUMMARY:Business After Hours- featuring Net-Rocking!
DESCRIPTION:Tonight we are trying something new we're calling it Net-Rocking (rather than the more traditional Networking) and it will be a blend of networking and a trivia event/contest.  The tag line for this first ever activity could be:  "Show us your knowledge of music & TV trivia while we learn more about you and your company. "\n\n\n\nThe intent here is to help build our knowledge of each other's businesses while having fun. We will be hosting a trivia quiz based on music and tv nostalgia at TrueCore  Federal Credit Union's Deo Drive headquarters facility with complimentary wine (from Three Oaks Vineyard) & appetizers provided.  Answer the question(s) correctly and you'll get to speak briefly about your company.\n\n\n\nThis is an opportunity for you to meet and get to know other chamber members\, have fun and win prizes!
X-ALT-DESC;FMTTYPE=text/html:Tonight we are trying something new&hellip\;we&rsquo\;re calling it Net-Rocking (rather than the more traditional Networking) and it will be a blend of networking and a trivia event/contest.&nbsp\; The tag line for this first ever activity could be:&nbsp\; &ldquo\;Show us your knowledge of music &amp\; TV trivia while we learn more about you and your company.&nbsp\;&ldquo\;<br />\n<br />\nThe intent here is to help build our knowledge of each other&rsquo\;s businesses while having fun. We will be hosting a trivia quiz based on music and tv nostalgia at TrueCore &nbsp\;Federal Credit Union&rsquo\;s Deo Drive headquarters facility with complimentary wine (from Three Oaks Vineyard) &amp\; appetizers provided. &nbsp\;Answer the question(s) correctly and you&rsquo\;ll get to speak briefly about your company.<br />\n<br />\nThis is an opportunity for you to meet and get to know other chamber members\, have fun and win prizes!
LOCATION:TrueCore Federal Credit Union 215 Deo Dr Newark\, OH 43055
UID:e.180.11975
SEQUENCE:3
DTSTAMP:20260421T100611Z
URL:http://business.granvilleoh.com/events/details/business-after-hours-featuring-net-rocking-11975
END:VEVENT

END:VCALENDAR
