BEGIN:VCALENDAR
VERSION:2.0
PRODID:-//ChamberMaster//Event Calendar 2.0//EN
METHOD:PUBLISH
X-PUBLISHED-TTL:P3D
REFRESH-INTERVAL:P3D
CALSCALE:GREGORIAN
BEGIN:VEVENT
DTSTART:20190522T210000Z
DTEND:20190522T233000Z
X-MICROSOFT-CDO-ALLDAYEVENT:FALSE
SUMMARY:Business (not as usual) After Hours at Creative COOP
DESCRIPTION:Join us for an informal networking event with Chamber friends and guests.  The lovely folks at the Creative COOP will provide...\n\nLive Music (Sam Dodd from Big Bad Stache) and Food!\n\nWine samples from Buckeye Lake Winery\n\nFire Pit on the patio!\n\nCornhole in the lawn!\n\nGiant Jenga!\n\nFrisbee!\n\nYou won't want to miss this!
X-ALT-DESC;FMTTYPE=text/html:Join us for an informal networking event with Chamber friends and guests.&nbsp\; The lovely folks at the Creative COOP will provide...<br>\n<span style="color: rgb(29\, 33\, 41)\; font-family: Helvetica\, Arial\, sans-serif\; font-size: 14px\; white-space: pre-wrap\; background-color: rgb(255\, 255\, 255)\;">Live Music (Sam Dodd from Big Bad Stache) and Food!<br>\nWine samples from Buckeye Lake Winery</span><br style="color: rgb(29\, 33\, 41)\; font-family: Helvetica\, Arial\, sans-serif\; font-size: 14px\; white-space: pre-wrap\; background-color: rgb(255\, 255\, 255)\;">\n<span style="color: rgb(29\, 33\, 41)\; font-family: Helvetica\, Arial\, sans-serif\; font-size: 14px\; white-space: pre-wrap\; background-color: rgb(255\, 255\, 255)\;">Fire Pit on the patio!</span><br style="color: rgb(29\, 33\, 41)\; font-family: Helvetica\, Arial\, sans-serif\; font-size: 14px\; white-space: pre-wrap\; background-color: rgb(255\, 255\, 255)\;">\n<span style="color: rgb(29\, 33\, 41)\; font-family: Helvetica\, Arial\, sans-serif\; font-size: 14px\; white-space: pre-wrap\; background-color: rgb(255\, 255\, 255)\;">Cornhole in the lawn!</span><br style="color: rgb(29\, 33\, 41)\; font-family: Helvetica\, Arial\, sans-serif\; font-size: 14px\; white-space: pre-wrap\; background-color: rgb(255\, 255\, 255)\;">\n<span style="color: rgb(29\, 33\, 41)\; font-family: Helvetica\, Arial\, sans-serif\; font-size: 14px\; white-space: pre-wrap\; background-color: rgb(255\, 255\, 255)\;">Giant Jenga!</span><br style="color: rgb(29\, 33\, 41)\; font-family: Helvetica\, Arial\, sans-serif\; font-size: 14px\; white-space: pre-wrap\; background-color: rgb(255\, 255\, 255)\;">\n<span style="color: rgb(29\, 33\, 41)\; font-family: Helvetica\, Arial\, sans-serif\; font-size: 14px\; white-space: pre-wrap\; background-color: rgb(255\, 255\, 255)\;">Frisbee!</span><br>\nYou won't want to miss this!
LOCATION:Creative COOP 119 W Broadway Granville\, OH
UID:e.180.12621
SEQUENCE:3
DTSTAMP:20260420T064405Z
URL:http://business.granvilleoh.com/events/details/business-not-as-usual-after-hours-at-creative-coop-12621
END:VEVENT

END:VCALENDAR
