BEGIN:VCALENDAR
VERSION:2.0
PRODID:-//ChamberMaster//Event Calendar 2.0//EN
METHOD:PUBLISH
X-PUBLISHED-TTL:P3D
REFRESH-INTERVAL:P3D
CALSCALE:GREGORIAN
BEGIN:VEVENT
DTSTART:20180725T163000Z
DTEND:20180725T183000Z
X-MICROSOFT-CDO-ALLDAYEVENT:FALSE
SUMMARY:Bust-a-Move Board Games
DESCRIPTION:Jeremy from Comic Shop Plus will bring a variety of board games each week to learn to play\, have fun\, and enjoy! Lunch provided. Rising 7th through 12th graders are welcome! This is our last session for summer. Sponsored by the Friends of the Library.
X-ALT-DESC;FMTTYPE=text/html:Jeremy from Comic Shop Plus will bring a variety of board games each week to learn to play\, have fun\, and enjoy! Lunch provided. Rising 7th through 12th graders are welcome! This is our last session for summer. Sponsored by the Friends of the Library.
LOCATION:Granville Public Library
UID:e.180.12067
SEQUENCE:3
DTSTAMP:20260419T170021Z
URL:http://business.granvilleoh.com/events/details/bust-a-move-board-games-07-25-2018-12067
END:VEVENT

END:VCALENDAR
