BEGIN:VCALENDAR
VERSION:2.0
PRODID:-//ChamberMaster//Event Calendar 2.0//EN
METHOD:PUBLISH
X-PUBLISHED-TTL:P3D
REFRESH-INTERVAL:P3D
CALSCALE:GREGORIAN
BEGIN:VEVENT
DTSTART:20190227T220000Z
DTEND:20190228T010000Z
X-MICROSOFT-CDO-ALLDAYEVENT:FALSE
SUMMARY:'Cabin Fever' Business After Hours Event
DESCRIPTION:It's Cold Outside!  So join us for a special 'Cabin Fever' gathering complete with toe tapping music to warm the senses.  We'll begin with collegial networking between 5:00 and 6:00 pm - then we'll open things up a bit with some contemporary tunes from 6:00 to 8:00 pm by our friends Sam and Matt - together known as 'Big Bad Stache'.  Come and get to know your fellow Chamber members better!
X-ALT-DESC;FMTTYPE=text/html:It&#39\;s Cold Outside!&nbsp\; So join us for a special &#39\;Cabin Fever&#39\; gathering complete with toe tapping music to warm the senses.&nbsp\; We&#39\;ll begin with collegial networking between 5:00 and 6:00 pm - then we&#39\;ll open things up a bit with some contemporary tunes from 6:00 to 8:00 pm by our friends Sam and Matt - together known as &#39\;Big Bad Stache&#39\;.&nbsp\; Come and get to know your fellow Chamber members better!
LOCATION:We'll be in Sonny's On Broadway (Third Floor above Donato's Pizza) 116 E. Broadway Granville\, OH 43023
UID:e.180.12405
SEQUENCE:3
DTSTAMP:20260420T022908Z
URL:http://business.granvilleoh.com/events/details/cabin-fever-business-after-hours-event-12405
END:VEVENT

END:VCALENDAR
