BEGIN:VCALENDAR
VERSION:2.0
PRODID:-//ChamberMaster//Event Calendar 2.0//EN
METHOD:PUBLISH
X-PUBLISHED-TTL:P3D
REFRESH-INTERVAL:P3D
CALSCALE:GREGORIAN
BEGIN:VEVENT
DTSTART:20190621T213000Z
DTEND:20190621T230000Z
X-MICROSOFT-CDO-ALLDAYEVENT:FALSE
SUMMARY:Camp-In Under the Stars
DESCRIPTION:Pitch a blanket fort and bring a picnic supper to enjoy at our inside campsite. Campfire treats provided. Come any time after 5:30pm\, no entry after 6pm Families
X-ALT-DESC;FMTTYPE=text/html:Pitch a blanket fort and bring a picnic supper to enjoy at our inside campsite. Campfire treats provided. Come any time after 5:30pm\, no entry after 6pm Families
LOCATION:Granville Public Library
UID:e.180.12682
SEQUENCE:3
DTSTAMP:20260422T085243Z
URL:http://business.granvilleoh.com/events/details/camp-in-under-the-stars-12682
END:VEVENT

END:VCALENDAR
