BEGIN:VCALENDAR
VERSION:2.0
PRODID:-//ChamberMaster//Event Calendar 2.0//EN
METHOD:PUBLISH
X-PUBLISHED-TTL:P3D
REFRESH-INTERVAL:P3D
CALSCALE:GREGORIAN
BEGIN:VEVENT
DTSTART:20180720T223000Z
DTEND:20180720T233000Z
X-MICROSOFT-CDO-ALLDAYEVENT:FALSE
SUMMARY:Campfire Songs and Games with Joanie Calem
DESCRIPTION:Come any time after 5:30pm with a picnic supper to enjoy at our inside campsite. A campfire sing-a-long with Joanie Calem begins at 6:30pm. Campfire treats provided. All ages
X-ALT-DESC;FMTTYPE=text/html:Come any time after 5:30pm with a picnic supper to enjoy at our inside campsite. A campfire sing-a-long with Joanie Calem begins at 6:30pm. Campfire treats provided. All ages
LOCATION:Granville Public Library
UID:e.180.12063
SEQUENCE:3
DTSTAMP:20260419T171120Z
URL:http://business.granvilleoh.com/events/details/campfire-songs-and-games-with-joanie-calem-12063
END:VEVENT

END:VCALENDAR
