BEGIN:VCALENDAR
VERSION:2.0
PRODID:-//ChamberMaster//Event Calendar 2.0//EN
METHOD:PUBLISH
X-PUBLISHED-TTL:P3D
REFRESH-INTERVAL:P3D
CALSCALE:GREGORIAN
BEGIN:VEVENT
DTSTART:20190909T203000Z
DTEND:20190909T213000Z
X-MICROSOFT-CDO-ALLDAYEVENT:FALSE
SUMMARY:Campus Visit: Author Anna Badkhen
DESCRIPTION:The Narrative Journalism Program at Denison welcomes author Anna Badkhen for a campus visit .\n\n?Badkhen will discuss her published works of literary nonfiction as well as her insights into reaching across cultural divides in extreme conditions in remote places.  \n\nHer awards include the Guggenheim Fellowship\, the Barry Lopez Visiting Writer in Ethics and Community Fellowship\, and the Joel B. Seldin Award from Psychologists for Social Responsibility for writing about civilians in war zones.
X-ALT-DESC;FMTTYPE=text/html:<div>\n<div>\n<div>\n<div>\n<div>\n<div>\n<div>\n<div>\n<p><span style="font-size:16px"><span style="font-family:arial\,helvetica\,sans-serif">The Narrative Journalism Program at Denison welcomes author Anna Badkhen for a campus visit .</span></span></p>\n\n<p><span style="font-size:16px"><span style="font-family:arial\,helvetica\,sans-serif">?Badkhen will discuss&nbsp\;her published works of literary nonfiction as well as her insights into reaching across cultural divides in extreme conditions in remote places. &nbsp\;</span></span></p>\n\n<p><span style="font-size:16px"><span style="font-family:arial\,helvetica\,sans-serif"><span style="color:rgb(38\, 38\, 38)">Her awards include the Guggenheim Fellowship\, the Barry Lopez Visiting Writer in Ethics and Community Fellowship\, and the Joel B. Seldin Award from Psychologists for Social Responsibility for writing about civilians in war zones.&nbsp\;</span></span></span></p>\n\n<div>&nbsp\;</div>\n</div>\n</div>\n</div>\n</div>\n</div>\n</div>\n</div>\n</div>\n
LOCATION:Denison University Barney-Davis Hall Board Room 200 West Loop
UID:e.180.12698
SEQUENCE:3
DTSTAMP:20260422T115356Z
URL:http://business.granvilleoh.com/events/details/campus-visit-author-anna-badkhen-12698
END:VEVENT

END:VCALENDAR
