BEGIN:VCALENDAR
VERSION:2.0
PRODID:-//ChamberMaster//Event Calendar 2.0//EN
METHOD:PUBLISH
X-PUBLISHED-TTL:P3D
REFRESH-INTERVAL:P3D
CALSCALE:GREGORIAN
BEGIN:VEVENT
DTSTART:20190720T220000Z
DTEND:20190721T010000Z
X-MICROSOFT-CDO-ALLDAYEVENT:FALSE
SUMMARY:Celebrate the 50th Anniversary of Apollo 11: Landing Day with Denison professor Steven Doty
DESCRIPTION:Denison University's Department of Physics and Astronomy celebrates the 50th Anniversary of the Apollo 11 Moon Mission and Landing with multiple events on Landing Day with Denison professor Steven Doty.\n\n	\n	6 p.m.: Family Activities: (Dress like your favorite astronaut\; trivia\; astronaut snacks\; liquid nitrogen ice cream\; moon photos by Tim Black)\n	\n	\n	7 p.m.: Rebroadcast of the Lunar Landing\n	\n	\n	7:30 p.m.: Public Talk and Discussion
X-ALT-DESC;FMTTYPE=text/html:<span style="background-color:transparent\; color:rgb(0\, 0\, 0)\; font-family:arial\; font-size:11pt">Denison University&#39\;s Department of Physics and Astronomy celebrates the 50th Anniversary of the Apollo 11 Moon Mission and Landing with multiple events on Landing Day with Denison professor Steven Doty.</span>\n<ul>\n	<li>\n	<p><span style="background-color:transparent\; font-size:11pt">6 p.m.: Family Activities: (Dress like your favorite astronaut\; trivia\; astronaut snacks\; liquid nitrogen ice cream\; moon photos by Tim Black)</span></p>\n	</li>\n	<li>\n	<p><span style="background-color:transparent\; font-size:11pt">7 p.m.: Rebroadcast of the Lunar Landing</span></p>\n	</li>\n	<li>\n	<p><span style="background-color:transparent\; font-size:11pt">7:30 p.m.: Public Talk and Discussion</span></p>\n	</li>\n</ul>\n
LOCATION:Denison University Olin Science Hall 100 Sunset Hill
UID:e.180.12704
SEQUENCE:3
DTSTAMP:20260422T101043Z
URL:http://business.granvilleoh.com/events/details/celebrate-the-50th-anniversary-of-apollo-11-landing-day-with-denison-professor-steven-doty-12704
END:VEVENT

END:VCALENDAR
