BEGIN:VCALENDAR
VERSION:2.0
PRODID:-//ChamberMaster//Event Calendar 2.0//EN
METHOD:PUBLISH
X-PUBLISHED-TTL:P3D
REFRESH-INTERVAL:P3D
CALSCALE:GREGORIAN
BEGIN:VEVENT
DTSTART:20190717T010000Z
DTEND:20190717T020000Z
X-MICROSOFT-CDO-ALLDAYEVENT:FALSE
SUMMARY:Celebrate the 50th Anniversary of Apollo 11: Observatory Show on launch day
DESCRIPTION:Denison University's Department of Physics and Astronomy celebrates the 50th Anniversary of the Apollo 11 Moon Mission and Landing with an Observatory Show on launch day with Denison associate professor Steven Olmschenk.
X-ALT-DESC;FMTTYPE=text/html:<span style="background-color:transparent\; color:rgb(0\, 0\, 0)\; font-family:arial\; font-size:11pt">Denison University&#39\;s Department of Physics and Astronomy celebrates the 50th Anniversary of the Apollo 11 Moon Mission and Landing with&nbsp\;an Observatory Show on launch day with Denison associate professor Steven Olmschenk.</span>
LOCATION:Denison University Swasey Observatory 300 Chapel Drive
UID:e.180.12703
SEQUENCE:3
DTSTAMP:20260422T102851Z
URL:http://business.granvilleoh.com/events/details/celebrate-the-50th-anniversary-of-apollo-11-observatory-show-on-launch-day-12703
END:VEVENT

END:VCALENDAR
