BEGIN:VCALENDAR
VERSION:2.0
PRODID:-//ChamberMaster//Event Calendar 2.0//EN
METHOD:PUBLISH
X-PUBLISHED-TTL:P3D
REFRESH-INTERVAL:P3D
CALSCALE:GREGORIAN
BEGIN:VEVENT
DTSTART:20190627T230000Z
DTEND:20190628T000000Z
X-MICROSOFT-CDO-ALLDAYEVENT:FALSE
SUMMARY:Celebrate the 50th Anniversary of Apollo 11: Planetarium Show for the Granville Public Library
DESCRIPTION:Denison University's Department of Physics and Astronomy celebrates the 50th Anniversary of the Apollo 11 Moon Mission and Landing with a Planetarium Show for the Granville Public Library with Denison professor Wesley Walter.
X-ALT-DESC;FMTTYPE=text/html:<span style="background-color:transparent\; color:rgb(0\, 0\, 0)\; font-family:arial\; font-size:11pt">Denison University&#39\;s Department of Physics and Astronomy celebrates the 50th Anniversary of the Apollo 11 Moon Mission and Landing with&nbsp\;a Planetarium Show for the Granville Public Library with Denison professor Wesley Walter.</span>
LOCATION:Denison University Olin Science Hall 100 Sunset Hill
UID:e.180.12702
SEQUENCE:3
DTSTAMP:20260420T083702Z
URL:http://business.granvilleoh.com/events/details/celebrate-the-50th-anniversary-of-apollo-11-planetarium-show-for-the-granville-public-library-12702
END:VEVENT

END:VCALENDAR
