BEGIN:VCALENDAR
VERSION:2.0
PRODID:-//ChamberMaster//Event Calendar 2.0//EN
METHOD:PUBLISH
X-PUBLISHED-TTL:P3D
REFRESH-INTERVAL:P3D
CALSCALE:GREGORIAN
BEGIN:VEVENT
DTSTART:20190724T193000Z
DTEND:20190724T203000Z
X-MICROSOFT-CDO-ALLDAYEVENT:FALSE
SUMMARY:Celebrate the 50th Anniversary of Apollo 11: Splashdown Day with Steven Doty
DESCRIPTION:Denison University's Department of Physics and Astronomy celebrates the 50th Anniversary of the Apollo 11 Moon Mission and Landing with professor Steven Doty. Doty will share his love of astronomy on splashdown day at the Granville Public Library.
X-ALT-DESC;FMTTYPE=text/html:<span style="background-color:transparent\; color:rgb(0\, 0\, 0)\; font-family:arial\; font-size:11pt">Denison University&#39\;s Department of Physics and Astronomy celebrates the 50th Anniversary of the Apollo 11 Moon Mission and Landing with professor Steven Doty. Doty will share his love of astronomy on splashdown day at the Granville Public Library.</span>
LOCATION:Granville Public Library 217 E Broadway
UID:e.180.12705
SEQUENCE:3
DTSTAMP:20260422T102852Z
URL:http://business.granvilleoh.com/events/details/celebrate-the-50th-anniversary-of-apollo-11-splashdown-day-with-steven-doty-12705
END:VEVENT

END:VCALENDAR
