BEGIN:VCALENDAR
VERSION:2.0
PRODID:-//ChamberMaster//Event Calendar 2.0//EN
METHOD:PUBLISH
X-PUBLISHED-TTL:P3D
REFRESH-INTERVAL:P3D
CALSCALE:GREGORIAN
BEGIN:VEVENT
DTSTART:20190424T203000Z
DTEND:20190424T220000Z
X-MICROSOFT-CDO-ALLDAYEVENT:FALSE
SUMMARY:Chamber Business After Hours and LCCC Open House
DESCRIPTION:The Licking County Community Center (formerly the Granville Senior Center) is hosting a gala Open House to promote its facility and its new name!  The April Business After Hours networking gathering is purposely planned to coincide with this celebration.  Come join us for good company\, tasty food and drink\, and spirited toe-tapping tunes provided courtesy of the Rocky Fork Old Time String Band!
X-ALT-DESC;FMTTYPE=text/html:The Licking County Community Center (formerly the Granville Senior Center) is hosting a gala Open House to promote its facility and its new name!&nbsp\; The April Business After Hours networking gathering is purposely planned to coincide with this celebration.&nbsp\; Come join us for good company\, tasty food and drink\, and spirited toe-tapping tunes provided courtesy of the Rocky Fork Old Time String Band!
LOCATION:Licking County Community Center (formerly the Granville Senior Center) 3825 Columbus Road - Building D Granville\, OH 43023
UID:e.180.12580
SEQUENCE:3
DTSTAMP:20260420T063953Z
URL:http://business.granvilleoh.com/events/details/chamber-business-after-hours-and-lccc-open-house-12580
END:VEVENT

END:VCALENDAR
