BEGIN:VCALENDAR
VERSION:2.0
PRODID:-//ChamberMaster//Event Calendar 2.0//EN
METHOD:PUBLISH
X-PUBLISHED-TTL:P3D
REFRESH-INTERVAL:P3D
CALSCALE:GREGORIAN
BEGIN:VEVENT
DTSTART:20190828T203000Z
DTEND:20190828T223000Z
X-MICROSOFT-CDO-ALLDAYEVENT:FALSE
SUMMARY:Chamber Business After Hours at Middleton Senior Living
DESCRIPTION:Join your fellow Chamber members and colleagues (and guests) for an informal evening of networking at Middleton Senior Living.  Take an exclusive first look at one of Middleton's Independent Living Cottages currently finishing construction and becoming available at the end of summer.  Come mix and mingle while enjoying appetizers and beverages provided by our host venue.  Tours of Assisted Living and Memory Care also available upon request.
X-ALT-DESC;FMTTYPE=text/html:Join your fellow Chamber members and colleagues (and guests) for an informal evening of networking at Middleton Senior Living.&nbsp\; Take an exclusive first look at one of Middleton's Independent Living Cottages currently finishing construction and becoming available at the end of summer.&nbsp\; Come mix and mingle while enjoying appetizers and beverages provided by our host venue.&nbsp\; Tours of Assisted Living and Memory Care also available upon request.
LOCATION:Middleton Senior Living 1500 Weaver Drive Granville\, OH 43023
UID:e.180.12774
SEQUENCE:3
DTSTAMP:20260422T102901Z
URL:http://business.granvilleoh.com/events/details/chamber-business-after-hours-at-middleton-senior-living-12774
END:VEVENT

END:VCALENDAR
