BEGIN:VCALENDAR
VERSION:2.0
PRODID:-//ChamberMaster//Event Calendar 2.0//EN
METHOD:PUBLISH
X-PUBLISHED-TTL:P3D
REFRESH-INTERVAL:P3D
CALSCALE:GREGORIAN
BEGIN:VEVENT
DTSTART:20190313T210000Z
DTEND:20190313T230000Z
X-MICROSOFT-CDO-ALLDAYEVENT:FALSE
SUMMARY:Chamber Business After Hours - at the Bryn Du Art Show
DESCRIPTION:Come join us for a very special Chamber Business After Hours gathering at the Bryn Du Art Show!  This will be an exclusive viewing opportunity for GACC members and our guests and we will be treated to live art demos by oil artist/painter Cynthia Davis as well as our own Gary Chisolm - professional photographer.  Further\, we'll enjoy locally grown and produced Three Oaks Vineyard wines and unique popcorn delights courtesy of Weathervane Kettle Corn.\n\n\n\nCome and get to know your fellow Chamber members better while enjoying a superb juried art exhibition!
X-ALT-DESC;FMTTYPE=text/html:Come join us for a very special Chamber Business After Hours gathering at the Bryn Du Art Show!&nbsp\; This will be an exclusive viewing opportunity for GACC members and our guests and we will be treated to live art demos by oil artist/painter Cynthia Davis as well as our own Gary Chisolm - professional photographer.&nbsp\; Further\, we&#39\;ll enjoy locally grown and produced Three Oaks Vineyard wines and unique popcorn delights courtesy of Weathervane Kettle Corn.<br />\n<br />\nCome and get to know your fellow Chamber members better while enjoying a superb juried art exhibition!&nbsp\;
LOCATION:Bryn Du Mansion 537 Jones Road Granville\, OH 43023
UID:e.180.12540
SEQUENCE:3
DTSTAMP:20260420T051139Z
URL:http://business.granvilleoh.com/events/details/chamber-business-after-hours-at-the-bryn-du-art-show-12540
END:VEVENT

END:VCALENDAR
