BEGIN:VCALENDAR
VERSION:2.0
PRODID:-//ChamberMaster//Event Calendar 2.0//EN
METHOD:PUBLISH
X-PUBLISHED-TTL:P3D
REFRESH-INTERVAL:P3D
CALSCALE:GREGORIAN
BEGIN:VEVENT
DTSTART:20181212T163000Z
DTEND:20181212T180000Z
X-MICROSOFT-CDO-ALLDAYEVENT:FALSE
SUMMARY:Chamber Holiday Membership Meeting and Luncheon
DESCRIPTION:It's that time of year for our Annual Holiday Luncheon and Membership Meeting!  Join us for this festive gathering as we pause and reflect on the year 2018 and all that we have accomplished together.  As is our custom we will use this occasion to recognize our retiring Board Members and swear in newcomers to our Board. Come join us!
X-ALT-DESC;FMTTYPE=text/html:<span style="color: rgb(51\, 51\, 51)\; font-family: sans-serif\, Arial\, Verdana\, &quot\;Trebuchet MS&quot\;\; font-size: 13px\; background-color: rgb(255\, 255\, 255)\;">It&#39\;s that time of year for our Annual Holiday Luncheon and Membership Meeting!&nbsp\; Join us for this festive gathering as we pause and reflect on the year 2018 and all that we have accomplished together.&nbsp\; As is our custom we will use this occasion to recognize our retiring Board Members and swear in newcomers to our Board. Come join us!</span>
LOCATION:Kendal at Granville 2158 Columbus Rd Granville\, OH 43023
UID:e.180.12209
SEQUENCE:3
DTSTAMP:20260419T234702Z
URL:http://business.granvilleoh.com/events/details/chamber-holiday-membership-meeting-and-luncheon-12209
END:VEVENT

END:VCALENDAR
