BEGIN:VCALENDAR
VERSION:2.0
PRODID:-//ChamberMaster//Event Calendar 2.0//EN
METHOD:PUBLISH
X-PUBLISHED-TTL:P3D
REFRESH-INTERVAL:P3D
CALSCALE:GREGORIAN
BEGIN:VEVENT
DTSTART:20190731T180000Z
DTEND:20190731T230000Z
X-MICROSOFT-CDO-ALLDAYEVENT:FALSE
SUMMARY:Cherry Valley Hotel Career Fair
DESCRIPTION:Widewaters Hotels is excited to announce a two day Career Fair for the newly renovated Cherry Valley Hotel in Newark\, OH! We are looking for motivated individuals to be a part of our team! Join us for guaranteed interviews on Wednesday\, July 31st from 2pm-7pm and Thursday\, August 1st from 8am-2pm. The Career Fair will be held at the beautiful Cherry Valley Hotel located 2299 Cherry Valley Road SE\, Newark\, OH 43055\, bring your resume and your passion for providing exceptional hospitality service! This is an amazing opportunity to work in an outstanding culture with limitless opportunities!
X-ALT-DESC;FMTTYPE=text/html:<span style="color:rgba(0\, 0\, 0\, 0.9)\; font-family:-apple-system\,system-ui\,blinkmacsystemfont\,segoe ui\,roboto\,helvetica neue\,fira sans\,ubuntu\,oxygen\,oxygen sans\,cantarell\,droid sans\,apple color emoji\,segoe ui emoji\,segoe ui emoji\,segoe ui symbol\,lucida grande\,helvetica\,arial\,sans-serif\; font-size:14px">Widewaters Hotels is excited to announce a two day Career Fair for the newly renovated Cherry Valley Hotel in Newark\, OH! We are looking for motivated individuals to be a part of our team! Join us for guaranteed interviews on Wednesday\, July 31st from 2pm-7pm and Thursday\, August 1st from 8am-2pm. The Career Fair will be held at the beautiful Cherry Valley Hotel located 2299 Cherry Valley Road SE\, Newark\, OH 43055\, bring your resume and your passion for providing exceptional hospitality service! This is an amazing opportunity to work in an outstanding culture with limitless opportunities!&nbsp\;</span>
LOCATION:2299 Cherry Valley Road SE\, Newark\, OH 43055
UID:e.180.12755
SEQUENCE:3
DTSTAMP:20260422T085237Z
URL:http://business.granvilleoh.com/events/details/cherry-valley-hotel-career-fair-12755
END:VEVENT

END:VCALENDAR
